BEGIN:VCALENDAR
VERSION:2.0
PRODID:-//kommunaljutsu.org//NONSGML v1.0//EN
METHOD:PUBLISH
CALSCALE:GREGORIAN
BEGIN:VEVENT
UID:https://www.tillmitsch.at/veranstaltungen/klimaticket-27/
DTSTAMP:20260424T135059Z
DTSTART:20260508T050000Z
DTEND:20260510T210000Z
LOCATION:
DESCRIPTION:
URL;VALUE=URI:
SUMMARY:klimaticket-27
BEGIN:VALARM
TRIGGER;VALUE=DATE-TIME:20260507T130000Z
ACTION:DISPLAY
DESCRIPTION:ALARM
END:VALARM
END:VEVENT
END:VCALENDAR
