BEGIN:VCALENDAR
VERSION:2.0
PRODID:-//kommunaljutsu.org//NONSGML v1.0//EN
METHOD:PUBLISH
CALSCALE:GREGORIAN
BEGIN:VEVENT
UID:https://www.tillmitsch.at/veranstaltungen/klimaticket-6/
DTSTAMP:20260425T002941Z
DTSTART:20260626T050000Z
DTEND:20260628T220000Z
LOCATION:
DESCRIPTION:
URL;VALUE=URI:
SUMMARY:klimaticket-6
BEGIN:VALARM
TRIGGER;VALUE=DATE-TIME:20260625T130000Z
ACTION:DISPLAY
DESCRIPTION:ALARM
END:VALARM
END:VEVENT
END:VCALENDAR
