BEGIN:VCALENDAR
VERSION:2.0
PRODID:-//kommunaljutsu.org//NONSGML v1.0//EN
METHOD:PUBLISH
CALSCALE:GREGORIAN
BEGIN:VEVENT
UID:https://www.tillmitsch.at/veranstaltungen/muttertagsmesse/
DTSTAMP:20260425T140536Z
DTSTART:20260508T170000Z
DTEND:20260508T180000Z
LOCATION:
DESCRIPTION:08. Mai 2026\nGedenkmesse (Muttertagsmesse)\num 19:00 Uhr
 \n
URL;VALUE=URI:
SUMMARY:muttertagsmesse
BEGIN:VALARM
TRIGGER;VALUE=DATE-TIME:20260507T130000Z
ACTION:DISPLAY
DESCRIPTION:ALARM
END:VALARM
END:VEVENT
END:VCALENDAR
